BEGIN:VCALENDAR
VERSION:2.0
PRODID:-//eventon.com NONSGML v1.0//EN
CALSCALE:GREGORIAN
METHOD:PUBLISH
BEGIN:VEVENT
UID:69e88959ce966
DTSTAMP:20260422T083953Z
DTSTART:20230625T083000Z
DTEND:20230625T110000Z
LOCATION:Salle la capèro 553 avenue des Pyrénées 32800 EAUZE dans le Gers
SUMMARY:Séance de Posture de Transe
DESCRIPTION:Dimanche 25 Juin 2023 de 10h30 à 13h00 Participation : 20€\,
   incluse l’adhésion à l’association le Ver Luisant de 5€ Sans rés
 ervation Les postures de transe extatique sont le renouveau d’une ancienn
 e pratique d’expansion de la conscience\,  dérivée d’œuvres d’art 
 anciennes trouvées sur tous les continents de cette terre\,  dont[..]\nhtt
 ps://geobiotantra.net/evenements/seance-de-posture-de-transe-3/
URL:https://geobiotantra.net/evenements/seance-de-posture-de-transe-3/
END:VEVENT
END:VCALENDAR