BEGIN:VCALENDAR
VERSION:2.0
PRODID:-//eventon.com NONSGML v1.0//EN
CALSCALE:GREGORIAN
METHOD:PUBLISH
BEGIN:VEVENT
UID:69e75d3c3a40d
DTSTAMP:20260421T131924
DTSTART:20240323T130000Z
DTEND:20240323T160000Z
TZID:Europe/Paris
LOCATION:Lieu Privé à Puimisson 
SUMMARY:Session Découverte Posture de Transe
DESCRIPTION: Session Découverte Posture de Transe Yoga et Transe Initiatique &nbsp; Samedi 23 Mars 2024 de 14h à 17h &nbsp; Dans un lieu privé à Puimisson à 15 minutes au Nord de Béziers &nbsp; Sur Réservation : Page Contact Tarif : 35 € &nbsp; Yoga et Transe Initiatique   Mars. Fin de l’expiration[..]\nhttps://geobiotantra.net/evenements/session-decouverte-posture-de-transe/
URL:https://geobiotantra.net/evenements/session-decouverte-posture-de-transe/
END:VEVENT
END:VCALENDAR