BEGIN:VCALENDAR
VERSION:2.0
PRODID:-//eventon.com NONSGML v1.0//EN
CALSCALE:GREGORIAN
METHOD:PUBLISH
BEGIN:VEVENT
UID:69e7899818eb1
DTSTAMP:20260421T162840
DTSTART:20240324T130000Z
DTEND:20240324T160000Z
TZID:Europe/Paris
LOCATION:Lieu Privé à Puimisson 
SUMMARY:Session Découverte Posture de Transe
DESCRIPTION: Session Découverte Posture de Transe Yoga et Transe Divinatoire &nbsp; Dimanche 24 Mars 2024 de 14h à 17h &nbsp; Dans un lieu privé à Puimisson à 15 minutes au Nord de Béziers &nbsp; Sur Réservation : Page Contact Tarif : 35 € &nbsp; Yoga et Transe Divinatoire   Mars. Fin de l’expiration[..]\nhttps://geobiotantra.net/evenements/session-decouverte-posture-de-transe-2/
URL:https://geobiotantra.net/evenements/session-decouverte-posture-de-transe-2/
END:VEVENT
END:VCALENDAR