BEGIN:VCALENDAR
VERSION:2.0
PRODID:-//eventon.com NONSGML v1.0//EN
CALSCALE:GREGORIAN
METHOD:PUBLISH
BEGIN:VEVENT
UID:69e88b3a689a1
DTSTAMP:20260422T084754Z
DTSTART:20240508T080000Z
DTEND:20240508T100000Z
LOCATION:
SUMMARY:Séance en Ligne - Posture de Transe - Donation Libre
DESCRIPTION:Séance de Posture de Transe en Ligne &#8211; Célébration Mer
 credi 8 Mai 2024 de 10h à 12h &nbsp; Sur Réservation : Page Contact Part
 icipation sous donation libre : Page Donation &nbsp; Afin de redonner au 8 
 mai une saveur  de paix véritable\,  de réclamer l&rsquo;interconnexion 
 de tous les êtres et de[..]\nhttps://geobiotantra.net/evenements/seance-en
 -ligne-posture-de-transe-donation-libre-14/
URL:https://geobiotantra.net/evenements/seance-en-ligne-posture-de-transe-donation-libre-14/
END:VEVENT
END:VCALENDAR