BEGIN:VCALENDAR
VERSION:2.0
PRODID:-//eventon.com NONSGML v1.0//EN
CALSCALE:GREGORIAN
METHOD:PUBLISH
BEGIN:VEVENT
UID:69e8a3a567bf8
DTSTAMP:20260422T103205Z
DTSTART:20240509T080000Z
DTEND:20240509T100000Z
LOCATION:
SUMMARY:Séance en Ligne - Posture de Transe & Art - Donation Libre
DESCRIPTION:Séance de Posture de Transe &amp; Art &#8211; en Ligne Jeudi 9
  Mai 2024 de 10h à 12h &nbsp; Sur Réservation : Page Contact Participati
 on sous donation libre : Page Donation &nbsp; &nbsp; En ce jour d&rsquo;él
 évation des fréquences et d&rsquo;immersion du corps dans l&rsquo;amour p
 ur\,  je vous propose une session[..]\nhttps://geobiotantra.net/evenements/
 seance-en-ligne-posture-de-transe-art-donation-libre-3/
URL:https://geobiotantra.net/evenements/seance-en-ligne-posture-de-transe-art-donation-libre-3/
END:VEVENT
END:VCALENDAR