BEGIN:VCALENDAR
VERSION:2.0
PRODID:-//eventon.com NONSGML v1.0//EN
CALSCALE:GREGORIAN
METHOD:PUBLISH
BEGIN:VEVENT
UID:69e88915eb8f8
DTSTAMP:20260422T083845Z
DTSTART:20250129T170000Z
DTEND:20250129T190000Z
LOCATION:
SUMMARY:Séance en Ligne - Posture de Transe - Donation Libre
DESCRIPTION:Séance de Posture de Transe en Ligne &#8211; Célébration Mer
 credi 29 Janvier 2025 de 18h à 20h &nbsp; Sur Réservation : Page Contact
  Participation sous donation libre : Page Donation &nbsp; Sous la première
  lune noire de 2025\,  nourrissons la semence de rêve dans le cœur\,  él
 ectrisons nous de fréquences terrestres.[..]\nhttps://geobiotantra.net/eve
 nements/seance-en-ligne-posture-de-transe-donation-libre-22/
URL:https://geobiotantra.net/evenements/seance-en-ligne-posture-de-transe-donation-libre-22/
END:VEVENT
END:VCALENDAR