BEGIN:VCALENDAR
VERSION:2.0
PRODID:-//eventon.com NONSGML v1.0//EN
CALSCALE:GREGORIAN
METHOD:PUBLISH
BEGIN:VEVENT
UID:69e89e9d56097
DTSTAMP:20260422T101037Z
DTSTART:20250320T170000Z
DTEND:20250320T190000Z
LOCATION:
SUMMARY:Séance en Ligne - Posture de Transe - Donation Libre
DESCRIPTION:Séance de Posture de Transe en Ligne &#8211; Célébration Éq
 uinoxe du Printemps Jeudi 20 Mars 2025 de 18h à 20h &nbsp; Sur Réservatio
 n : Page Contact Participation sous donation libre : Page Donation &nbsp; 
 Se tenant entre les deux éclipses lunaire et solaire) du mois de Mars\,  l
 &rsquo;équinoxe de printemps\,  déterminée[..]\nhttps://geobiotantra.net
 /evenements/seance-en-ligne-posture-de-transe-donation-libre-25/
URL:https://geobiotantra.net/evenements/seance-en-ligne-posture-de-transe-donation-libre-25/
END:VEVENT
END:VCALENDAR